BEGIN:VCALENDAR
VERSION:2.0
PRODID:-//My Community Diary//iCal Event//EN
CALSCALE:GREGORIAN
METHOD:PUBLISH
BEGIN:VEVENT
UID:9d50216d-241c-4aab-800c-59be3d2132cd
DTSTAMP:20260423T140331Z
DTSTART;VALUE=DATE:20260517
DTEND;VALUE=DATE:20260518
SUMMARY:Diana Nguyen - Pedestal - Sydney
DESCRIPTION:When everything you touch puts you on a pedestal. The first ever Vietnamese Australian for everything…\n\nAll silly\, cheeky stories of going up and then going and up again.\n\nTake a seat. Diana is standing up.
LOCATION:\, 118-132 Enmore Road\, Newtown\, NSW 2042\, NSW\, 2042
RRULE:FREQ=DAILY;INTERVAL=1;UNTIL=20260519T000000Z
END:VEVENT
END:VCALENDAR
