BEGIN:VCALENDAR
VERSION:2.0
PRODID:-//My Community Diary//iCal Event//EN
CALSCALE:GREGORIAN
METHOD:PUBLISH
BEGIN:VEVENT
UID:0bc7d8ff-2fbb-4b74-819b-e09ade0c636e
DTSTAMP:20260423T102941Z
DTSTART;VALUE=DATE:20261025
DTEND;VALUE=DATE:20261026
SUMMARY:Davistown Putt Putt Regatta and Wooden Boat Festival
DESCRIPTION:The Davistown Putt Putt Regatta and Wooden Boat Festival is a great event and also an opportunity for the people to celebrate the Central Coast and the culture that is a part of history\, heritage and local character. \n\nMany putt-putt boats are still in use on Brisbane Water today. Putt-putt boats usually range in length from 14-18 feet and are powered by either single or twin-cylinder two to 10-hp Blaxland/Chapman\, Simplex or Clay inboard petrol-driven engines all of which make the very familiar putt-putt exhaust sound. Boats today will also often be powered by small one or two-cylinder diesel engines.\n\nThe Regatta is one of the principal events on the Gosford City calendar. The Davistown Putt Putt Regatta and Wooden Boat Festival attracts a huge amount of quality putt putts travelling from as far as Queensland and the ACT. \n\nThey also look to provide a family-focused day where the local community and visitors can have an enjoyable day in a safe and family-friendly environment. The Regatta has the reputation of being one of the largest events of its kind on the eastern seaboard.
LOCATION:\, Davistown Road\, Davistown\, NSW 2251\, NSW\, 2251
END:VEVENT
END:VCALENDAR
