BEGIN:VCALENDAR
VERSION:2.0
PRODID:-//My Community Diary//iCal Event//EN
CALSCALE:GREGORIAN
METHOD:PUBLISH
BEGIN:VEVENT
UID:9b244e95-32b2-4c41-9bc1-12cb4a80f24d
DTSTAMP:20260422T005209Z
DTSTART;VALUE=DATE:20260831
DTEND;VALUE=DATE:20260901
SUMMARY:David Williamson's Top Silk
DESCRIPTION:For Jane Fredericks\, the fight for justice is personal. As a passionate legal aid solicitor\, Jane risks everything to help an old flame\, and her world quickly unravels — both in the courtroom and at home.\n\nHer husband Trevor\, a prominent barrister\, faces his own ethical conundrum: defend a powerful media mogul to advance his career or protect his integrity.\n\nDavid Williamson's trademark wit\, paired with Mark Kilmurry's sharp direction\, delivers a funny\, fast-paced cross-examination of moral dilemmas\, family dynamics\, and the true cost of success.
LOCATION:\, 78 McDougall Street\, Kirribilli\, NSW 2061\, NSW\, 2061
RRULE:FREQ=DAILY;INTERVAL=1;UNTIL=20260902T000000Z
END:VEVENT
END:VCALENDAR
