BEGIN:VCALENDAR
VERSION:2.0
PRODID:-//My Community Diary//iCal Event//EN
CALSCALE:GREGORIAN
METHOD:PUBLISH
BEGIN:VEVENT
UID:88100229-f11a-43b6-b6f5-903b4e43390a
DTSTAMP:20260424T155034Z
DTSTART:20201206T080000Z
DTEND:20201206T170000Z
SUMMARY:Optometry - Longreach
DESCRIPTION:Fitzpatrick Family Optometrists at Fitzpatrick Family Optometrists - Longreach. Please confirm precise times with the service provider. Please contact 1800 008 020 for more information about this visiting service.
LOCATION:\, Merino Arcade\, Eagle Street\, Longreach\, QLD\, 4730\, QLD\, 4730
END:VEVENT
END:VCALENDAR
