BEGIN:VCALENDAR
VERSION:2.0
PRODID:-//My Community Diary//iCal Event//EN
CALSCALE:GREGORIAN
METHOD:PUBLISH
BEGIN:VEVENT
UID:d82777ef-05ac-4a3b-8db8-6646bda89f1b
DTSTAMP:20260422T051152Z
DTSTART;VALUE=DATE:20260814
DTEND;VALUE=DATE:20260815
SUMMARY:Daves Hughes - Cooked
DESCRIPTION:There is no one else that comes close to the phenomenon that is Dave Hughes. Behind that cooked looking facade is a mind that works like no other.\n\nDave has carved out a large place in the Australian cultural landscape for good reason. His take on the world around him is unique\, ever changing\, and not to be missed. His shows are events that live long in the memory.\n\nNow more brutally honest than ever\, not only is he Australia's best stand-up comedian\, but he is also as good as it gets anywhere on the planet. Book today.\n\nEntry Cost\nAll tickets $49  - Full Price $54.00\nConcession $49.00*\nGroup 6+ $49.00 each\nMembers $49.00
LOCATION:\, 525 Swift St\, Albury\, NSW 2640\, NSW\, 2640
END:VEVENT
END:VCALENDAR
