BEGIN:VCALENDAR
VERSION:2.0
PRODID:-//My Community Diary//iCal Event//EN
CALSCALE:GREGORIAN
METHOD:PUBLISH
BEGIN:VEVENT
UID:e1698d07-585e-487d-9461-9abe2a39692b
DTSTAMP:20260421T222514Z
DTSTART;VALUE=DATE:20260830
DTEND;VALUE=DATE:20260831
SUMMARY:Darrel Chapman Fun Run
DESCRIPTION:The Darrel Chapman Fun Run is an event that has been established in Lismore for over 25 years.\n\nThe NAB\, Lismore City Council and the Lord’s Taverners team with Our Kids to make this event a reality.\n\nThere is a 4 kilometre\, 10 kilometre\, 21 kilometre and Virtual Marathon.\n\nAll funds raised from the Darrel Chapman Fun Run will go to ‘Our Kids’. ‘Our Kids’ is a local charity that raises money to purchase lifesaving equipment for local hospitals. Keeping kids local when needing urgent medical care.
LOCATION:\, Woodlark Street\, Lismore\, NSW 2480\, NSW\, 2480
END:VEVENT
END:VCALENDAR
