BEGIN:VCALENDAR
VERSION:2.0
PRODID:-//My Community Diary//iCal Event//EN
CALSCALE:GREGORIAN
METHOD:PUBLISH
BEGIN:VEVENT
UID:9ef4ef27-c305-4cda-bd20-2d556c42fccf
DTSTAMP:20260422T050546Z
DTSTART;VALUE=DATE:20260510
DTEND;VALUE=DATE:20260511
SUMMARY:Daniel Connell: Prairie Dog - Sydney
DESCRIPTION:Award-winning stand-up Daniel Connell (as seen on Have You Been Paying Attention?) returns to Sydney with a new show.\nBook now as this show will sell-out.\n\n"A comedic masterpiece."- Onya Magazine\n\nEntry Cost\nAll tickets $25  - A booking or transaction fee may apply
LOCATION:\, 118-132 Enmore Road\, Newtown\, NSW 2042\, NSW\, 2042
RRULE:FREQ=DAILY;INTERVAL=1;UNTIL=20260512T000000Z
END:VEVENT
END:VCALENDAR
