BEGIN:VCALENDAR
VERSION:2.0
PRODID:-//My Community Diary//iCal Event//EN
CALSCALE:GREGORIAN
METHOD:PUBLISH
BEGIN:VEVENT
UID:6792b88e-ae73-41f7-9070-9e63c7e00679
DTSTAMP:20260422T021147Z
DTSTART;VALUE=DATE:20260509
DTEND;VALUE=DATE:20260510
SUMMARY:Daniel Connell: Prairie Dog - Sydney
DESCRIPTION:Award-winning stand-up Daniel Connell (as seen on Have You Been Paying Attention?) returns to Sydney with a new show.\nBook now as this show will sell-out.\n\n"A comedic masterpiece."- Onya Magazine\n\nEntry Cost\nAll tickets $25  - A booking or transaction fee may apply
LOCATION:\, 118-132 Enmore Road\, Newtown\, NSW 2042\, NSW\, 2042
RRULE:FREQ=DAILY;INTERVAL=1;UNTIL=20260511T000000Z
END:VEVENT
END:VCALENDAR
