BEGIN:VCALENDAR
VERSION:2.0
PRODID:-//My Community Diary//iCal Event//EN
CALSCALE:GREGORIAN
METHOD:PUBLISH
BEGIN:VEVENT
UID:593dc82c-3580-417c-a2ae-3f0ebcb1674a
DTSTAMP:20260422T002936Z
DTSTART;VALUE=DATE:20270218
DTEND;VALUE=DATE:20270219
SUMMARY:Dance With Me Darling
DESCRIPTION:Spanning moving image\, sound\, sculptural interventions and performance\, Dance with Me Darling features contemporary artists from across Australia who all employ movement in their practice.
LOCATION:\, 230 High Street\, Maitland\, NSW 2320\, NSW\, 2320
RRULE:FREQ=DAILY;INTERVAL=1;UNTIL=20270220T000000Z
END:VEVENT
END:VCALENDAR
