BEGIN:VCALENDAR
VERSION:2.0
PRODID:-//My Community Diary//iCal Event//EN
CALSCALE:GREGORIAN
METHOD:PUBLISH
BEGIN:VEVENT
UID:bd7be5c1-50ee-457a-85ec-fa919d8b2e16
DTSTAMP:20260421T222417Z
DTSTART;VALUE=DATE:20270215
DTEND;VALUE=DATE:20270216
SUMMARY:Dance With Me Darling
DESCRIPTION:Spanning moving image\, sound\, sculptural interventions and performance\, Dance with Me Darling features contemporary artists from across Australia who all employ movement in their practice.
LOCATION:\, 230 High Street\, Maitland\, NSW 2320\, NSW\, 2320
RRULE:FREQ=DAILY;INTERVAL=1;UNTIL=20270217T000000Z
END:VEVENT
END:VCALENDAR
