BEGIN:VCALENDAR
VERSION:2.0
PRODID:-//My Community Diary//iCal Event//EN
CALSCALE:GREGORIAN
METHOD:PUBLISH
BEGIN:VEVENT
UID:102c8fb0-6a04-4223-a09d-b86aa2225f41
DTSTAMP:20260422T015617Z
DTSTART;VALUE=DATE:20270206
DTEND;VALUE=DATE:20270207
SUMMARY:Dance With Me Darling
DESCRIPTION:Spanning moving image\, sound\, sculptural interventions and performance\, Dance with Me Darling features contemporary artists from across Australia who all employ movement in their practice.
LOCATION:\, 230 High Street\, Maitland\, NSW 2320\, NSW\, 2320
RRULE:FREQ=DAILY;INTERVAL=1;UNTIL=20270208T000000Z
END:VEVENT
END:VCALENDAR
