BEGIN:VCALENDAR
VERSION:2.0
PRODID:-//My Community Diary//iCal Event//EN
CALSCALE:GREGORIAN
METHOD:PUBLISH
BEGIN:VEVENT
UID:145de2ea-d63e-4e64-9add-5cba4cf175e0
DTSTAMP:20260421T205610Z
DTSTART;VALUE=DATE:20270126
DTEND;VALUE=DATE:20270127
SUMMARY:Dance With Me Darling
DESCRIPTION:Spanning moving image\, sound\, sculptural interventions and performance\, Dance with Me Darling features contemporary artists from across Australia who all employ movement in their practice.
LOCATION:\, 230 High Street\, Maitland\, NSW 2320\, NSW\, 2320
RRULE:FREQ=DAILY;INTERVAL=1;UNTIL=20270128T000000Z
END:VEVENT
END:VCALENDAR
