BEGIN:VCALENDAR
VERSION:2.0
PRODID:-//My Community Diary//iCal Event//EN
CALSCALE:GREGORIAN
METHOD:PUBLISH
BEGIN:VEVENT
UID:38baf073-228d-4434-b9fe-089176b6d8c6
DTSTAMP:20260422T021145Z
DTSTART;VALUE=DATE:20270119
DTEND;VALUE=DATE:20270120
SUMMARY:Dance With Me Darling
DESCRIPTION:Spanning moving image\, sound\, sculptural interventions and performance\, Dance with Me Darling features contemporary artists from across Australia who all employ movement in their practice.
LOCATION:\, 230 High Street\, Maitland\, NSW 2320\, NSW\, 2320
RRULE:FREQ=DAILY;INTERVAL=1;UNTIL=20270121T000000Z
END:VEVENT
END:VCALENDAR
