BEGIN:VCALENDAR
VERSION:2.0
PRODID:-//My Community Diary//iCal Event//EN
CALSCALE:GREGORIAN
METHOD:PUBLISH
BEGIN:VEVENT
UID:4529a313-6a53-44a8-987e-4397d107dca9
DTSTAMP:20260422T033734Z
DTSTART;VALUE=DATE:20270102
DTEND;VALUE=DATE:20270103
SUMMARY:Dance With Me Darling
DESCRIPTION:Spanning moving image\, sound\, sculptural interventions and performance\, Dance with Me Darling features contemporary artists from across Australia who all employ movement in their practice.
LOCATION:\, 230 High Street\, Maitland\, NSW 2320\, NSW\, 2320
RRULE:FREQ=DAILY;INTERVAL=1;UNTIL=20270104T000000Z
END:VEVENT
END:VCALENDAR
