BEGIN:VCALENDAR
VERSION:2.0
PRODID:-//My Community Diary//iCal Event//EN
CALSCALE:GREGORIAN
METHOD:PUBLISH
BEGIN:VEVENT
UID:880eda3e-709c-4a4b-9089-0c1b7a7e2500
DTSTAMP:20260422T083805Z
DTSTART;VALUE=DATE:20261212
DTEND;VALUE=DATE:20261213
SUMMARY:Dance With Me Darling
DESCRIPTION:Spanning moving image\, sound\, sculptural interventions and performance\, Dance with Me Darling features contemporary artists from across Australia who all employ movement in their practice.
LOCATION:\, 230 High Street\, Maitland\, NSW 2320\, NSW\, 2320
RRULE:FREQ=DAILY;INTERVAL=1;UNTIL=20261214T000000Z
END:VEVENT
END:VCALENDAR
