BEGIN:VCALENDAR
VERSION:2.0
PRODID:-//My Community Diary//iCal Event//EN
CALSCALE:GREGORIAN
METHOD:PUBLISH
BEGIN:VEVENT
UID:331360d7-589a-4420-bdb7-f60454999069
DTSTAMP:20260422T050850Z
DTSTART;VALUE=DATE:20261211
DTEND;VALUE=DATE:20261212
SUMMARY:Dance With Me Darling
DESCRIPTION:Spanning moving image\, sound\, sculptural interventions and performance\, Dance with Me Darling features contemporary artists from across Australia who all employ movement in their practice.
LOCATION:\, 230 High Street\, Maitland\, NSW 2320\, NSW\, 2320
RRULE:FREQ=DAILY;INTERVAL=1;UNTIL=20261213T000000Z
END:VEVENT
END:VCALENDAR
