BEGIN:VCALENDAR
VERSION:2.0
PRODID:-//My Community Diary//iCal Event//EN
CALSCALE:GREGORIAN
METHOD:PUBLISH
BEGIN:VEVENT
UID:120393c2-b7fc-4c8f-944a-a4a4ff7f643f
DTSTAMP:20260422T083736Z
DTSTART;VALUE=DATE:20261209
DTEND;VALUE=DATE:20261210
SUMMARY:Dance With Me Darling
DESCRIPTION:Spanning moving image\, sound\, sculptural interventions and performance\, Dance with Me Darling features contemporary artists from across Australia who all employ movement in their practice.
LOCATION:\, 230 High Street\, Maitland\, NSW 2320\, NSW\, 2320
RRULE:FREQ=DAILY;INTERVAL=1;UNTIL=20261211T000000Z
END:VEVENT
END:VCALENDAR
