BEGIN:VCALENDAR
VERSION:2.0
PRODID:-//My Community Diary//iCal Event//EN
CALSCALE:GREGORIAN
METHOD:PUBLISH
BEGIN:VEVENT
UID:8429574b-3585-4eb2-a13e-5bfc61f761bc
DTSTAMP:20260421T224329Z
DTSTART;VALUE=DATE:20260502
DTEND;VALUE=DATE:20260503
SUMMARY:Cypress Sessions
DESCRIPTION:Produced by Cypress Bartlett\, Cypress Sessions was created to bring a wide array of artists to record live studio sessions in his birth city of Gosford\, and to highlight the amazing musicianship that lives a half hour drive north of Sydney.\nThe night will feature an eclectic night of funk and jazz\, to blues and soul with featured artists Lizzy\, Nana Koizumi\, Zoe K and Kaya Burn\, backed by the talented Cypress Sessions band.\n\nCome listen\, dance and explore the sounds of musicians who have come from Japan\, Melbourne and the Central Coasts own backyard at Cypress Sessions Live.\n\nEntry Cost\nAll tickets $30  - General Admission Price
LOCATION:\, 141 Mann Street\, Gosford\, NSW 2250\, NSW\, 2250
END:VEVENT
END:VCALENDAR
