BEGIN:VCALENDAR
VERSION:2.0
PRODID:-//My Community Diary//iCal Event//EN
CALSCALE:GREGORIAN
METHOD:PUBLISH
BEGIN:VEVENT
UID:cefee8a1-27f3-4950-8284-1480300ade71
DTSTAMP:20260421T225744Z
DTSTART;VALUE=DATE:20260606
DTEND;VALUE=DATE:20260607
SUMMARY:Currarong Art Trail
DESCRIPTION:Currarong is a picturesque seaside village\, within the pristine Jervis Bay Marine Park\, on the south coast of New South Wales. The tiny village is home to many talented\, active artists.\n\nCurrarong's monthly walking Art Trail provides a fabulous opportunity to explore the village while meeting their local participating artists and enjoying their creations.\n\nThe artists are looking forward to welcoming you into their homes\, studios and workspaces on the first Saturday of every month at selected times.\n\nBefore you head out on the Art Trail\, they invite you to take a look at the artists profiled on the website. Please check that the artists you would like to visit will have their studios open during your visit. \n\nThen\, when you're ready\, wander the village\, meet the artists\, chat with them about their art\, and\, if you fall in love with a piece\, feel free to make a purchase directly from their studio.\n\nThe Art Trail is an easy walk and a lovely way to enjoy the village.
LOCATION:\, Currarong\, NSW 2540\, NSW\, 2540
RRULE:FREQ=DAILY;INTERVAL=1;UNTIL=20260608T000000Z
END:VEVENT
END:VCALENDAR
