BEGIN:VCALENDAR
VERSION:2.0
PRODID:-//My Community Diary//iCal Event//EN
CALSCALE:GREGORIAN
METHOD:PUBLISH
BEGIN:VEVENT
UID:c8c3e209-b71c-4160-96b6-a38e3fbd3c4a
DTSTAMP:20260422T015745Z
DTSTART;VALUE=DATE:20260503
DTEND;VALUE=DATE:20260504
SUMMARY:Currabubula Boutique Market
DESCRIPTION:Currabubula Boutique Markets are held twice a year at the Currabubula Recreation Ground.  \n\nOver 180 stalls showcasing their amazing products.  \n\nMarkets are held on the first Sunday in May and first Sunday in December.  All money raised goes to the wonderful bush school and preschool.\n\nEntry Cost\nAll tickets $1  - Gold Coin Donation
LOCATION:\, Davis Street\, Currabubula\, NSW 2342\, NSW\, 2342
RRULE:FREQ=DAILY;INTERVAL=1;UNTIL=20260505T000000Z
END:VEVENT
END:VCALENDAR
