BEGIN:VCALENDAR
VERSION:2.0
PRODID:-//My Community Diary//iCal Event//EN
CALSCALE:GREGORIAN
METHOD:PUBLISH
BEGIN:VEVENT
UID:8b88d54f-a1e0-4be7-95b2-268400173fd3
DTSTAMP:20260422T015806Z
DTSTART;VALUE=DATE:20260522
DTEND;VALUE=DATE:20260523
SUMMARY:Cupitt's Italian Festa
DESCRIPTION:As part of the Shoalhaven Autumn Celebration of Food\, join them for an unforgettable evening under the stars as they bring a taste of Italy to the Cupitt's Wine Garden. Think glowing festoons\, fireside warmth\, handcrafted Italian dishes\, Cupitt's Italian-varietal wines\, an Italian cocktail on arrival and live music setting the mood.\n\nProudly supported by the Shoalhaven Food Network as part of the Autumn Celebration of Food.\n\nEntry Cost\nAll tickets $75 
LOCATION:\, 58 Washburton Road\, Ulladulla\, NSW 2539\, NSW\, 2539
END:VEVENT
END:VCALENDAR
