BEGIN:VCALENDAR
VERSION:2.0
PRODID:-//My Community Diary//iCal Event//EN
CALSCALE:GREGORIAN
METHOD:PUBLISH
BEGIN:VEVENT
UID:ab99bf17-5c63-4c93-945d-e1f068f94845
DTSTAMP:20260421T225730Z
DTSTART;VALUE=DATE:20261104
DTEND;VALUE=DATE:20261105
SUMMARY:Culture Club: Poets Society Poetry Reading
DESCRIPTION:Join the Culture Club's Poets Society to see local poets share poems. If you are a poetry lover feel welcome to share your own\, make connections and be inspired by creativity. \n\nFirst Wednesday of each month\, bring your poem and a pillow to relax into the evening.
LOCATION:\, 607 High Street\, Maitland\, NSW 2320\, NSW\, 2320
RRULE:FREQ=DAILY;INTERVAL=1;UNTIL=20261106T000000Z
END:VEVENT
END:VCALENDAR
