BEGIN:VCALENDAR
VERSION:2.0
PRODID:-//My Community Diary//iCal Event//EN
CALSCALE:GREGORIAN
METHOD:PUBLISH
BEGIN:VEVENT
UID:b8929987-c0ae-4dd9-8986-700c99a5da75
DTSTAMP:20260421T225604Z
DTSTART;VALUE=DATE:20260603
DTEND;VALUE=DATE:20260604
SUMMARY:Culture Club: Poets Society Poetry Reading
DESCRIPTION:Join the Culture Club's Poets Society to see local poets share poems. If you are a poetry lover feel welcome to share your own\, make connections and be inspired by creativity. \n\nFirst Wednesday of each month\, bring your poem and a pillow to relax into the evening.
LOCATION:\, 607 High Street\, Maitland\, NSW 2320\, NSW\, 2320
RRULE:FREQ=DAILY;INTERVAL=1;UNTIL=20260605T000000Z
END:VEVENT
END:VCALENDAR
