BEGIN:VCALENDAR
VERSION:2.0
PRODID:-//My Community Diary//iCal Event//EN
CALSCALE:GREGORIAN
METHOD:PUBLISH
BEGIN:VEVENT
UID:3281eb3e-4498-4258-aaf1-5d9661130017
DTSTAMP:20260422T002953Z
DTSTART;VALUE=DATE:20261018
DTEND;VALUE=DATE:20261019
SUMMARY:Crows Nest Festival
DESCRIPTION:Crows Nest is set to burst into life as Crows Nest Mainstreet presents its biggest festival yet. Under the theme "Connection\, Culture & Creativity"\, this free\, family-friendly event promises a full day of vibrant entertainment\, delicious food\, and unique market finds.\n\nWith an expanded footprint around the new Crows Nest Metro Station\, more streets will be filled with music\, colour\, and community spirit than ever before.
LOCATION:\, Crows Nest\, NSW 2065\, NSW\, 2065
END:VEVENT
END:VCALENDAR
