BEGIN:VCALENDAR
VERSION:2.0
PRODID:-//My Community Diary//iCal Event//EN
CALSCALE:GREGORIAN
METHOD:PUBLISH
BEGIN:VEVENT
UID:582be403-cc5e-4baa-9ab4-eaef059f4826
DTSTAMP:20260422T005108Z
DTSTART;VALUE=DATE:20261107
DTEND;VALUE=DATE:20261108
SUMMARY:Crookwell Garden Festival
DESCRIPTION:Experience the beauty of a selection of the very best cool climate gardens in Crookwell and       surrounds.  A wonderful opportunity to see some amazing gardens in the district  and to be             inspired with ideas for designing your own garden paradise. \n\nTalk to passionate garden owners\, meet fellow garden enthusiasts and enjoy the great country hospitality.  Stay a few hours or come for the whole weekend. \n\nOn Saturday visit The Garden Lovers Market at the Crookwell Showground  where an array of garden-related products: plants\, trees\, tools\, garden art\, furniture and much more is on offer. \n\nThe  Garden Festival Art Show is also on at the Crookwell Art Gallery over the weekend\, pop in and look over the talented art works on display.\n\nEntry Cost\nAdult $5  - AUD5 at each gate\;\nAUD30 for all gardens\;\nFree entry Gardens Lovers Markets.
LOCATION:\, Goulburn Street\, Crookwell\, NSW 2583\, NSW\, 2583
RRULE:FREQ=DAILY;INTERVAL=1;UNTIL=20261109T000000Z
END:VEVENT
END:VCALENDAR
