BEGIN:VCALENDAR
VERSION:2.0
PRODID:-//My Community Diary//iCal Event//EN
CALSCALE:GREGORIAN
METHOD:PUBLISH
BEGIN:VEVENT
UID:feafe71b-abee-400c-88ff-1c0b06241143
DTSTAMP:20260422T000658Z
DTSTART;VALUE=DATE:20260516
DTEND;VALUE=DATE:20260517
SUMMARY:Criptonite
DESCRIPTION:A disco drenched\, intergalactic playground where gravity bends\, stories shimmer\, and spectacle takes centre stage.\nCriptonite is a bold\, irreverent circus cabaret created by international icon Deb Roach and brought to life by a cast of elite artists from Australia and the UK. This is high skill performance with heart\, a fast paced collision of aerial circus\, dance\, comedy\, music\, drag and performance art\, woven together into a spectacular show for one night only.\n\nYou're boarding a space station of glitter and grit where the moon watches on\, the performers burn bright\, and every act carries its own pulse. Criptonite balances joy with edge\, polish with unpredictability\, and spectacle with stories that land because they are real\, human\, and sharply told.\n\nThis is a show with momentum\, intention\, and soul\, a place where bodies\, voices and imagination take up space and invite the audience to do the same. You will laugh\, you will cheer\, and you might even recognise this as the brightest Saturday night of your whole life.\n\nEntry Cost\nAdult $30  - $35 for General Admission\n$30 for Concession Card Holders\n$30 for Group Discounts (5+)
LOCATION:\, 141 Mann Street\, Gosford\, NSW 2250\, NSW\, 2250
END:VEVENT
END:VCALENDAR
