BEGIN:VCALENDAR
VERSION:2.0
PRODID:-//My Community Diary//iCal Event//EN
CALSCALE:GREGORIAN
METHOD:PUBLISH
BEGIN:VEVENT
UID:a78be9be-82a0-4f78-905f-c344055d43a8
DTSTAMP:20260421T210322Z
DTSTART;VALUE=DATE:20261121
DTEND;VALUE=DATE:20261122
SUMMARY:Crims
DESCRIPTION:Crims is a new physical theatre piece by Christopher Samuel Carroll\, inspired by true stories from the violent underworld of 1920s Sydney. In the saloons\, billiard rooms\, brothels\, and racetracks of a raging metropolis erupting into life\, gunmen\, conmen\, coiners and swindlers\, bootleggers\, burglars\, politicians and hoodlums seized their share.\n\nDeveloped with an eclectic ensemble of local performers\, this world premiere work promises to be dark\, thrilling\, and explosive\, unearthing hidden histories in a larger-than-life theatrical style that has become synonymous with the work of Bare Witness Theatre Company.\n\nCarroll's drama about the dark arts of marketing behind climate denial\, Smokescreen\, was the inaugural Q The Locals production in 2022\, touring to fortyfivedownstairs in Melbourne in 2025.\n\nThe writing of Crims has been funded by the CAPO fellowship.\n\nEntry Cost\nAll tickets $30  - Adult                    $45\nConcession      $40\nGroups 8+        $40ea\nQ Members     $35\nUnder 30          $30\nSupporter        $60
LOCATION:\, 253 Crawford Street\, Queanbeyan\, NSW 2620\, NSW\, 2620
RRULE:FREQ=DAILY;INTERVAL=1;UNTIL=20261123T000000Z
END:VEVENT
END:VCALENDAR
