BEGIN:VCALENDAR
VERSION:2.0
PRODID:-//My Community Diary//iCal Event//EN
CALSCALE:GREGORIAN
METHOD:PUBLISH
BEGIN:VEVENT
UID:a62ded4d-d9b0-47ad-9c18-160d71d33823
DTSTAMP:20260422T000555Z
DTSTART;VALUE=DATE:20260809
DTEND;VALUE=DATE:20260810
SUMMARY:Crescent Head Community Markets
DESCRIPTION:These colourful markets on the Crescent Head foreshore have stallholders selling a great variety of fresh local produce\, fresh seafood\, jams and pickles\, homemade goods\, fishing gear\, surf gear and second hand wares\, adult and children’s clothing and jewellery.\n\nAll the profits from the markets benefit the students of Crescent Head Primary School.\n\nThe Markets run on the second Sunday of every month.
LOCATION:\, Next to Crescent Head Holiday Park\, Pacific St\, Crescent Head\, NSW 2440\, NSW\, 2440
RRULE:FREQ=DAILY;INTERVAL=1;UNTIL=20260811T000000Z
END:VEVENT
END:VCALENDAR
