BEGIN:VCALENDAR
VERSION:2.0
PRODID:-//My Community Diary//iCal Event//EN
CALSCALE:GREGORIAN
METHOD:PUBLISH
BEGIN:VEVENT
UID:d299dd47-12b2-4772-924b-f5ec433d065b
DTSTAMP:20260421T224422Z
DTSTART;VALUE=DATE:20260913
DTEND;VALUE=DATE:20260914
SUMMARY:Creedence Clearwater Collective
DESCRIPTION:Guests are invited to join for a night celebrating the music of Creedence Clearwater Revival and John Fogerty\, presenting the music of one of the world's most iconic bands – from the songs they wrote\, to the songs covered\, to the songs they wrote for others. \n\nAll the hits that defined a generation\, and have become the soundtrack for many more – all in one night\, live\, on stage. \n\nCreedence Clearwater Collective brings to the stage a band that captures the unique CCR sound. \n\nGuests do not want to hear through the grapevine that they missed out on this howling good time. \n\nJoin a real-life travelling band.\n\nEntry Cost\nAll tickets $49  - Adult $69.00\nConcession $64.00\nMember $62.00\nStudent $64.00\nChild $49.00\nGroup 6+ $59.00
LOCATION:\, Burns Way\, Wagga Wagga\, NSW 2650\, NSW\, 2650
END:VEVENT
END:VCALENDAR
