BEGIN:VCALENDAR
VERSION:2.0
PRODID:-//My Community Diary//iCal Event//EN
CALSCALE:GREGORIAN
METHOD:PUBLISH
BEGIN:VEVENT
UID:d03c3f25-73cf-434f-be49-73049a96cbb5
DTSTAMP:20260422T001008Z
DTSTART;VALUE=DATE:20261107
DTEND;VALUE=DATE:20261108
SUMMARY:CraftAlive Orange
DESCRIPTION:CraftAlive?is returning to Orange for three big days.\n\nFeaturing both local and interstate craft experts\, the show is packed full of the latest craft supplies\, kits and equipment.\n\nCraftAlive?is a hands-on event and a chance to learn from world-class specialists with interactive classes on Thursday\, Friday and Saturday.\n\nEntry Cost\nAdult $16  - Adult - \nOnline: $18\nAt Door: $20.\n\n Concession / Student - \nOnline: $16\nAt Door: $18\n*available online\, concession card will be required for entry. \n\nMulti-day - \nOnline: $28\nAt Door $30.\n\nChildren (14 and under) $0.
LOCATION:\, Leeds Parade\, Orange\, NSW 2800\, NSW\, 2800
RRULE:FREQ=DAILY;INTERVAL=1;UNTIL=20261109T000000Z
END:VEVENT
END:VCALENDAR
