BEGIN:VCALENDAR
VERSION:2.0
PRODID:-//My Community Diary//iCal Event//EN
CALSCALE:GREGORIAN
METHOD:PUBLISH
BEGIN:VEVENT
UID:bb2797c3-a9c5-4cf9-9a72-440682717e71
DTSTAMP:20260421T205618Z
DTSTART;VALUE=DATE:20261105
DTEND;VALUE=DATE:20261106
SUMMARY:CraftAlive Orange
DESCRIPTION:CraftAlive?is returning to Orange for three big days.\n\nFeaturing both local and interstate craft experts\, the show is packed full of the latest craft supplies\, kits and equipment.\n\nCraftAlive?is a hands-on event and a chance to learn from world-class specialists with interactive classes on Thursday\, Friday and Saturday.\n\nEntry Cost\nAdult $16  - Adult - \nOnline: $18\nAt Door: $20.\n\n Concession / Student - \nOnline: $16\nAt Door: $18\n*available online\, concession card will be required for entry. \n\nMulti-day - \nOnline: $28\nAt Door $30.\n\nChildren (14 and under) $0.
LOCATION:\, Leeds Parade\, Orange\, NSW 2800\, NSW\, 2800
RRULE:FREQ=DAILY;INTERVAL=1;UNTIL=20261107T000000Z
END:VEVENT
END:VCALENDAR
