BEGIN:VCALENDAR
VERSION:2.0
PRODID:-//My Community Diary//iCal Event//EN
CALSCALE:GREGORIAN
METHOD:PUBLISH
BEGIN:VEVENT
UID:b6614d98-46b1-4a27-a5ba-0a3114b8c75a
DTSTAMP:20260422T003006Z
DTSTART;VALUE=DATE:20260608
DTEND;VALUE=DATE:20260609
SUMMARY:Cootamundra Sunday Markets
DESCRIPTION:Experience the charm of the Cootamundra Sunday Markets\, held on the second Sunday each month (excluding July) at Albert Park. \n\nOrganised by the Cootamundra Girl Guides\, these vibrant markets feature handmade crafts\, fresh produce\, plants\, clothing\, and more. \n\nEnjoy a hearty breakfast from the Cootamundra CanAssist BBQ while supporting local creators.
LOCATION:\, Bourke Street\, Cootamundra\, NSW 2590\, NSW\, 2590
RRULE:FREQ=DAILY;INTERVAL=1;UNTIL=20260610T000000Z
END:VEVENT
END:VCALENDAR
