BEGIN:VCALENDAR
VERSION:2.0
PRODID:-//My Community Diary//iCal Event//EN
CALSCALE:GREGORIAN
METHOD:PUBLISH
BEGIN:VEVENT
UID:4777b467-f079-4374-9c0a-e2df9228cb0d
DTSTAMP:20260422T021959Z
DTSTART;VALUE=DATE:20260510
DTEND;VALUE=DATE:20260511
SUMMARY:Cootamundra Sunday Markets
DESCRIPTION:Experience the charm of the Cootamundra Sunday Markets\, held on the second Sunday each month (excluding July) at Albert Park. \n\nOrganised by the Cootamundra Girl Guides\, these vibrant markets feature handmade crafts\, fresh produce\, plants\, clothing\, and more. \n\nEnjoy a hearty breakfast from the Cootamundra CanAssist BBQ while supporting local creators.
LOCATION:\, Bourke Street\, Cootamundra\, NSW 2590\, NSW\, 2590
RRULE:FREQ=DAILY;INTERVAL=1;UNTIL=20260512T000000Z
END:VEVENT
END:VCALENDAR
