BEGIN:VCALENDAR
VERSION:2.0
PRODID:-//My Community Diary//iCal Event//EN
CALSCALE:GREGORIAN
METHOD:PUBLISH
BEGIN:VEVENT
UID:27ec2160-c82d-4cae-8ca0-d711fcb86d49
DTSTAMP:20260422T054404Z
DTSTART;VALUE=DATE:20260501
DTEND;VALUE=DATE:20260502
SUMMARY:Cootamundra Sunday Markets
DESCRIPTION:Experience the charm of the Cootamundra Sunday Markets\, held on the second Sunday each month (excluding July) at Albert Park. \n\nOrganised by the Cootamundra Girl Guides\, these vibrant markets feature handmade crafts\, fresh produce\, plants\, clothing\, and more. \n\nEnjoy a hearty breakfast from the Cootamundra CanAssist BBQ while supporting local creators.
LOCATION:\, Bourke Street\, Cootamundra\, NSW 2590\, NSW\, 2590
RRULE:FREQ=DAILY;INTERVAL=1;UNTIL=20260503T000000Z
END:VEVENT
END:VCALENDAR
