BEGIN:VCALENDAR
VERSION:2.0
PRODID:-//My Community Diary//iCal Event//EN
CALSCALE:GREGORIAN
METHOD:PUBLISH
BEGIN:VEVENT
UID:1f50e034-2184-4c34-98cd-d045844c49c3
DTSTAMP:20260422T004957Z
DTSTART;VALUE=DATE:20260425
DTEND;VALUE=DATE:20260426
SUMMARY:Cootamundra Picnic Races
DESCRIPTION:The Cootamundra Picnic Races is a cherished annual event held at the Cootamundra Racecourse\, offering a vibrant day of country racing and community celebration. \n\nThe event features a full race program\, live music\, children's activities\, and the popular Fashions on the Field competition.\n\nIt's a family-friendly occasion that showcases the region's hospitality and festive spirit.
LOCATION:\, Racecourse Lane\, Cootamundra\, NSW 2590\, NSW\, 2590
END:VEVENT
END:VCALENDAR
