BEGIN:VCALENDAR
VERSION:2.0
PRODID:-//My Community Diary//iCal Event//EN
CALSCALE:GREGORIAN
METHOD:PUBLISH
BEGIN:VEVENT
UID:ba6c14e5-a227-4943-8247-eb5672cfb460
DTSTAMP:20260422T035759Z
DTSTART;VALUE=DATE:20270219
DTEND;VALUE=DATE:20270220
SUMMARY:Coota Beach Volleyball
DESCRIPTION:Get ready for an epic weekend of sand\, sport\, and community spirit! Every February  (third weekend) Cootamundra transforms into an inland beach for the Coota Beach Volleyball Carnival. \n\nWith 10 courts and over 900 tonnes of sand in the heart of town\, this event brings together players of all levels for thrilling matches\, fun activities\, and a vibrant festival atmosphere.\n\nWhether you're competing\, cheering from the sidelines\, or just soaking up the beach vibes\, there’s something for everyone. Plus\, with local businesses getting involved\, great food\, and live entertainment\, it’s more than just volleyball—it’s a celebration of Coota’s community spirit.\n\nDon’t miss out—dig\, set\, and spike your way to an unforgettable weekend!
LOCATION:\, 32 Bourke Street\, Cootamundra\, NSW 2590\, NSW\, 2590
RRULE:FREQ=DAILY;INTERVAL=1;UNTIL=20270221T000000Z
END:VEVENT
END:VCALENDAR
