BEGIN:VCALENDAR
VERSION:2.0
PRODID:-//My Community Diary//iCal Event//EN
CALSCALE:GREGORIAN
METHOD:PUBLISH
BEGIN:VEVENT
UID:b45f4968-4627-40dd-849c-f3730c78198d
DTSTAMP:20260424T130202Z
DTSTART;VALUE=DATE:20261114
DTEND;VALUE=DATE:20261115
SUMMARY:Convoy For Kids Goulburn
DESCRIPTION:Convoy For Kids Goulburn is a registered charity organisation\, which commenced in 1999.  That raises money to help support kids with cancer\, severe disabilities and those in need. Their biggest annual fundraising event is Convoy Day!\n\nThe Convoy will depart from the Gateway Service Station at 10.00am\, travel along Sydney Road\, Lagoon Street and Auburn Street before arriving at the Goulburn Showground.\n\nThe Convoy For Kids Goulburn Carnival Day is an event not to be missed. Entertainment from a local bands\, food stalls\, live shows\, live auction\, displays and carnival rides.\n\nEntry Cost\nVehicle $0  - Non-truck entry $60\nTruck Registration $100\nAdult $10  - Kids under 18 years old are free\, and free includes carnival rides\, performances and other entertainment.\nChild $0  - Kids under 18 years old are free\, and free includes carnival rides\, performances and other entertainment.
LOCATION:\, 45 Braidwood Rd\, Goulburn\, NSW 2580\, NSW\, 2580
END:VEVENT
END:VCALENDAR
