BEGIN:VCALENDAR
VERSION:2.0
PRODID:-//My Community Diary//iCal Event//EN
CALSCALE:GREGORIAN
METHOD:PUBLISH
BEGIN:VEVENT
UID:ba75ffbe-eed0-41a6-9ba3-a004e7beb987
DTSTAMP:20260422T071653Z
DTSTART;VALUE=DATE:20260430
DTEND;VALUE=DATE:20260501
SUMMARY:Conflicts and Creativity
DESCRIPTION:Featuring the creativity and patriotism of service personnel\, their friends and families\, prisoners of war\, civilians and communities during wars and conflicts. This exhibition showcases the ingenuity of people during times of conflicts to keep their hands and minds occupied and their hopes for the future alive. \n\nSupported by a Saluting Their Service Commemorative Grant through the Australian Government's Department of Veterans' Affairs.\n\nEntry Cost\nAll tickets $3  - Adult $5\nChildren $3\nFamily $10
LOCATION:\, 22 Clarence Street\, Port Macquarie\, NSW 2444\, NSW\, 2444
RRULE:FREQ=DAILY;INTERVAL=1;UNTIL=20260502T000000Z
END:VEVENT
END:VCALENDAR
