BEGIN:VCALENDAR
VERSION:2.0
PRODID:-//My Community Diary//iCal Event//EN
CALSCALE:GREGORIAN
METHOD:PUBLISH
BEGIN:VEVENT
UID:32dabda8-c03a-4c21-80a8-0af699599da4
DTSTAMP:20260422T013723Z
DTSTART;VALUE=DATE:20260820
DTEND;VALUE=DATE:20260821
SUMMARY:Confetti and Chaos - Pokolbin
DESCRIPTION:You are cordially invited to a complete stranger's wedding!\n\nIt was meant to be a surprise party to celebrate Will and Stacey's wedding\, but it's turned into pandemonium – with secrets spilling out as uninvited and misbehaving family members bust in\, bust up and bust a move.\n\nAudiences become guests caught in the crossfire in this totally immersive and highly improvised comedy. With much loved wedding guests from an overly friendly mother-in-law\, to the wildcard of a best man\, no other wedding invites such charming calamity and tenderness. \n\nPaid tickets include a three-course meal. If you have any special dietary requirements or wish to be seated on the same table with another booking\, please include this information when booking your tickets.\n\nDoor opens 30 minutes before show start time.\n\nEntry Cost\nAll tickets $109.37  - Tickets: $109.37 pp ($105.00 + $4.37 fees).\n\nAll tickets include a 3-course dinner and 2-hour interactive show.
LOCATION:\, Pokolbin\, NSW 2320\, NSW\, 2320
END:VEVENT
END:VCALENDAR
