BEGIN:VCALENDAR
VERSION:2.0
PRODID:-//My Community Diary//iCal Event//EN
CALSCALE:GREGORIAN
METHOD:PUBLISH
BEGIN:VEVENT
UID:f6b498af-5856-4788-9bd7-f0d5af1e90a6
DTSTAMP:20260422T021144Z
DTSTART;VALUE=DATE:20270220
DTEND;VALUE=DATE:20270221
SUMMARY:Condobolin Picnic Races
DESCRIPTION:The Condobolin Picnic Races are held annually in Condobolin. \n\nVisitors are welcome to join in with the fun of all of these wonderful bush events. This is a fun-filled day of racing\, socialising and fashion.
LOCATION:\, Diggers Avenue\, Condobolin\, NSW 2877\, NSW\, 2877
END:VEVENT
END:VCALENDAR
