BEGIN:VCALENDAR
VERSION:2.0
PRODID:-//My Community Diary//iCal Event//EN
CALSCALE:GREGORIAN
METHOD:PUBLISH
BEGIN:VEVENT
UID:b89701be-9fbd-4bd5-9007-082f59783847
DTSTAMP:20260421T222516Z
DTSTART;VALUE=DATE:20261024
DTEND;VALUE=DATE:20261025
SUMMARY:Condo Oktoberfest
DESCRIPTION:Dress in your finest  Dirndls and Lederhosen and enjoy a spring afternoon of live music and entertainment\, German beer\, and more at the Condobolin Sports Club. \n\nGather your friends for the annual Condo Oktoberfest\, promising to be an unforgettable event this year!
LOCATION:\, Tasker St\, Condobolin\, NSW 2877\, NSW\, 2877
END:VEVENT
END:VCALENDAR
