BEGIN:VCALENDAR
VERSION:2.0
PRODID:-//My Community Diary//iCal Event//EN
CALSCALE:GREGORIAN
METHOD:PUBLISH
BEGIN:VEVENT
UID:d583fdf2-a28e-4d19-b13d-b7f927cb8f10
DTSTAMP:20260422T013702Z
DTSTART;VALUE=DATE:20260531
DTEND;VALUE=DATE:20260601
SUMMARY:Collector Con Penrith
DESCRIPTION:Access over 400+ vendor tables of toy\, hobby and pop culture collectables across three halls - think action figures\, trading cards\, comics\, anime\, POPS\, dolls\, bricks and LEGO\, plush\, die-cast and model cars\, trains\, artist alley traders and more!\n\nThere will also be activations throughout the day - from Dungeons and Dragons adventures\, professional wrestling\, Call of Cthulhu\, cosplay competition to Magic the Gathering Sit and Play!\n\nEntry Cost\nAdult $10  - 8.30am early bird entry tickets are $25 each \n9.30am General Admission tickets are from $15 each \n11.30am General Admission tickets are from $10 each\n\n- Companion card holders have buy one ticket\, get one free entry\nChild $0  - Children 12 years and under have free entry.
LOCATION:\, 30 Herbert Street\, Cambridge Park\, NSW 2747\, NSW\, 2747
END:VEVENT
END:VCALENDAR
