BEGIN:VCALENDAR
VERSION:2.0
PRODID:-//My Community Diary//iCal Event//EN
CALSCALE:GREGORIAN
METHOD:PUBLISH
BEGIN:VEVENT
UID:765a052e-5a0c-4722-a25a-d441ff3d375c
DTSTAMP:20260422T015802Z
DTSTART;VALUE=DATE:20260425
DTEND;VALUE=DATE:20260426
SUMMARY:Coffee and Claytime Workshop
DESCRIPTION:Coffee and Claytime is an invitation to take a morning for yourself. The session is about slowing down\, enjoying a good coffee from Frankie the van\, and shaping something by hand in a calm and supportive space.\n\nWith a maximum of six participants\, there's time for Myf to offer individual guidance and help you create something you truly love. Together we'll make a simple\, functional piece such as a cup\, bowl or small vase. You'll learn hand-building techniques like pinch potting and adding handles or feet\, and then have time to explore your own ideas.\n\nAll tools\, materials and plenty of clay are provided. Just bring your curiosity and a willingness to play.\n\nEntry Cost\nAll tickets $120  - A coffee on arrival & shared nibbles included\n\nYou can choose up to three pieces to be glazed and fired\, ready for collection in about four to six weeks.
LOCATION:\, 16 Gipps Street\, Carrington\, NSW 2294\, NSW\, 2294
RRULE:FREQ=DAILY;INTERVAL=1;UNTIL=20260427T000000Z
END:VEVENT
END:VCALENDAR
