BEGIN:VCALENDAR
VERSION:2.0
PRODID:-//My Community Diary//iCal Event//EN
CALSCALE:GREGORIAN
METHOD:PUBLISH
BEGIN:VEVENT
UID:7ce99677-7ce8-4632-a4ca-fafe1445139e
DTSTAMP:20260421T224131Z
DTSTART;VALUE=DATE:20270214
DTEND;VALUE=DATE:20270215
SUMMARY:Cobargo AP & H Society Annual Show
DESCRIPTION:The Cobargo Agricultural Country Show is a vibrant celebration of rural life\, showcasing the region's finest livestock\, produce\, skills\, and community spirit. Visitors can enjoy a full program of traditional agricultural competitions\, including dairy\, cattle\, and poultry judging\, alongside an impressive array of horse events such as hacking\, show jumping\, the working horse challenge\, rodeo\, and campdraft.\nThe Show also features an extensive pavilion program with art\, photography\, children's craft\, sewing\, handcrafts\, fruit and vegetable displays\, cakes\, jams\, and preserves. High-energy attractions include chainsaw demonstrations\, a motorbike obstacle course\, the Young Farmers Challenge\, and the ever-popular lawn mower race.\nWith entertainment and activities for all ages\, it's a fantastic weekend in Cobargo with plenty to see\, experience\, and enjoy.\n\nEntry Cost\nAdult $5  - Adults: Friday $10\, Saturday  $15 & Sunday $20 per day\,  or \nWeekend Pass $30\nChild $0  - Children 12 -17 - $5 each day\, weekend pass $15\nChildren under 12 - under 12 years Free\nFamily $60  - 2 Adults & 2 Children weekend pass $60
LOCATION:\, 81 Avernus Street\, Cobargo\, NSW 2550\, NSW\, 2550
RRULE:FREQ=DAILY;INTERVAL=1;UNTIL=20270216T000000Z
END:VEVENT
END:VCALENDAR
