BEGIN:VCALENDAR
VERSION:2.0
PRODID:-//My Community Diary//iCal Event//EN
CALSCALE:GREGORIAN
METHOD:PUBLISH
BEGIN:VEVENT
UID:d5b643a5-5077-4954-8eba-ddd39d568be3
DTSTAMP:20260422T033745Z
DTSTART;VALUE=DATE:20260913
DTEND;VALUE=DATE:20260914
SUMMARY:Coastal Forage
DESCRIPTION:Coastal Forage is an immersive\, one-of-a-kind food and nature experience\, showcasing the Shoalhaven region's best local produce\, wine\, and culinary talent. Set along a breathtaking six kilometres stretch of the Jervis Bay coastline\, this 10-course tasting event takes guests on a journey through pristine beaches and nature trails\, offering a true paddock-to-plate experience in one of Australia's most stunning coastal landscapes.\n\nOver the course of 2-3 hours\, you'll enjoy gourmet offerings at food stations set along the beach\, with your toes in the sand and the ocean breeze on your face. This unique event is more than just a lunch—it's an opportunity to meet the region's most celebrated chefs\, producers\, and artisans. Along the way\, you'll also learn about the fascinating flora\, fauna\, and marine life that call Jervis Bay home.\n\nEntry Cost\nAll tickets $225  - 10 course degustation AUD225 per person.\n\nThis includes parking\, all food\, wine and entertainment for the day.
LOCATION:\, Beach St\, Huskisson\, NSW 2540\, NSW\, 2540
RRULE:FREQ=DAILY;INTERVAL=1;UNTIL=20260915T000000Z
END:VEVENT
END:VCALENDAR
