BEGIN:VCALENDAR
VERSION:2.0
PRODID:-//My Community Diary//iCal Event//EN
CALSCALE:GREGORIAN
METHOD:PUBLISH
BEGIN:VEVENT
UID:c3187260-077c-4b9f-91e7-e7b6e294bb26
DTSTAMP:20260422T002810Z
DTSTART;VALUE=DATE:20260424
DTEND;VALUE=DATE:20260425
SUMMARY:Clay and Sip
DESCRIPTION:Clay and Sip classes are perfect if you are looking for a fun\, social way to experience the joy of clay in a relaxed evening setting.\n\nJoin the team from Silt Studio for this two-hour guided class (beginner friendly). All classes have a maximum of up to 8 people. All participants will be creating two pieces\, with both being glazed and fired for later collection.\n\nBYO drinks (glassware provided).\n\nGlazing sessions can be booked in addition to this workshop so you can decorate your own item with glaze\, otherwise they will be glazes standard white glaze.\n\nEntry Cost\nAll tickets $85 
LOCATION:\, 19 Bridge St\, North Lismore\, NSW 2480\, NSW\, 2480
RRULE:FREQ=DAILY;INTERVAL=1;UNTIL=20260426T000000Z
END:VEVENT
END:VCALENDAR
