BEGIN:VCALENDAR
VERSION:2.0
PRODID:-//My Community Diary//iCal Event//EN
CALSCALE:GREGORIAN
METHOD:PUBLISH
BEGIN:VEVENT
UID:775a6ed0-7807-4303-9c5e-2e08ee76d6db
DTSTAMP:20260421T224207Z
DTSTART;VALUE=DATE:20260823
DTEND;VALUE=DATE:20260824
SUMMARY:Clarkes Gambit
DESCRIPTION:The event name seeks to build on the legend of Thomas and John Clarke\, who were the nation’s deadliest bushrangers who rustled livestock\, ambushed gold shipments and robbed traders from Braidwood to Bega in southern New South Wales in the mid-1860s.\n\nThe event will comprise a two-day overnight social riding on some of the best gravel roads in Australia through stunning scenic vistas overlooking the Eurobodalla Shire. Riders will also receive access to download complementary event photographs taken by ReadyAimMedia.\n\nEvent Support is provided by KLite Dynamo Power including on-course feed zone and mechanical support. The event is a fully insured event with approval from the local council and authorities.\n\nRiders also receive a 'goodies bag' containing various samples from sponsors and a limited edition commemorative patch.
LOCATION:\, 963 Kings Highway\, Nelligen\, NSW 2536\, NSW\, 2536
RRULE:FREQ=DAILY;INTERVAL=1;UNTIL=20260825T000000Z
END:VEVENT
END:VCALENDAR
