BEGIN:VCALENDAR
VERSION:2.0
PRODID:-//My Community Diary//iCal Event//EN
CALSCALE:GREGORIAN
METHOD:PUBLISH
BEGIN:VEVENT
UID:0120056d-799b-4a14-b8f5-3fadd19e71e9
DTSTAMP:20260422T015646Z
DTSTART;VALUE=DATE:20260829
DTEND;VALUE=DATE:20260830
SUMMARY:Clarence Town Markets
DESCRIPTION:Clarence Town Lions Club Monthly  Markets are located on the grounds of the Clarence Town Bowling Sport and Recreation Club. Happening on the last Saturday of each month in the charming little country town of Clarence Town on the Williams River\, they love seeing people come to visit. \n\nThere is an average of 20 stalls per month\, with a huge variety of stallholders\,  supporting local artisans\, with farm fresh produce\, sausage sizzle (thanks to 1st Clarence Town Scout Group)\, vintage jewellery\, candles\, second-hand goods\,  tools\, bric-a-brac\, goat soap\, cakes\, jams\, plants\, books and much more.
LOCATION:\, Corner Prince Street and Durham Street\, Clarence Town\, NSW 2321\, NSW\, 2321
RRULE:FREQ=DAILY;INTERVAL=1;UNTIL=20260831T000000Z
END:VEVENT
END:VCALENDAR
