BEGIN:VCALENDAR
VERSION:2.0
PRODID:-//My Community Diary//iCal Event//EN
CALSCALE:GREGORIAN
METHOD:PUBLISH
BEGIN:VEVENT
UID:261b25c1-2bb9-43fd-aa23-ae9265bd3a15
DTSTAMP:20260422T014831Z
DTSTART;VALUE=DATE:20270314
DTEND;VALUE=DATE:20270315
SUMMARY:City to Lake Fun Run
DESCRIPTION:Run\, walk or ride the scenic route from Jubilee Oval\, Griffith to the picturesque Lake Wyangan picnic ground. A distance of nine kilometres. There will be trophies for runners and riders in age categories as well as lucky prizes. Entertainment and catering available at the finish line.\n\nRide the nine kilometre course from Jubilee Oval to the Lake Wyangan picnic area.
LOCATION:\, Groongal Avenue\, Griffith\, NSW 2680\, NSW\, 2680
END:VEVENT
END:VCALENDAR
