BEGIN:VCALENDAR
VERSION:2.0
PRODID:-//My Community Diary//iCal Event//EN
CALSCALE:GREGORIAN
METHOD:PUBLISH
BEGIN:VEVENT
UID:a5d3a21b-cda0-4e72-b05e-4816459aa3fd
DTSTAMP:20260422T021021Z
DTSTART;VALUE=DATE:20261024
DTEND;VALUE=DATE:20261025
SUMMARY:ChromeFest
DESCRIPTION:Come and enjoy cars\, chrome and tunes\, from the good ol' days.\n\nChromeFest is a buzz of excitement with show cars on display\, live entertainment on five outdoor stages\, a street cruise\, retro market stalls\, trade stands\, vintage glamour fashion parade\, dance demonstrations\, the Australian Pin Up Pageant grand final\, roving entertainment plus more!\n\nFor all details visit the ChromeFest website.\n\nChromeFest is proudly brought to you by Central Coast Council.
LOCATION:\, Marine Parade\, The Entrance\, NSW 2261\, NSW\, 2261
RRULE:FREQ=DAILY;INTERVAL=1;UNTIL=20261026T000000Z
END:VEVENT
END:VCALENDAR
